Package: omicsPrint
Version: 1.24.0
Command: /Library/Frameworks/R.framework/Resources/bin/R CMD INSTALL omicsPrint
StartedAt: 2024-06-09 15:11:27 -0400 (Sun, 09 Jun 2024)
EndedAt: 2024-06-09 15:12:05 -0400 (Sun, 09 Jun 2024)
EllapsedTime: 37.4 seconds
RetCode: 0
Status: OK