Package: omicsPrint Version: 1.24.0 Maintainer: Davy Cats MaintainerEmail: davycats.dc at gmail.com git_url: https://git.bioconductor.org/packages/omicsPrint git_branch: RELEASE_3_19 git_last_commit: 8b4995d git_last_commit_date: 2024-04-30 11:02:51 -0400 (Tue, 30 Apr 2024)