Package: omicplotR
Version: 1.24.0
Command: /Library/Frameworks/R.framework/Resources/bin/R CMD INSTALL omicplotR
StartedAt: 2024-06-09 15:35:28 -0400 (Sun, 09 Jun 2024)
EndedAt: 2024-06-09 15:35:59 -0400 (Sun, 09 Jun 2024)
EllapsedTime: 31.4 seconds
RetCode: 0
Status: OK