Package: omicplotR
Version: 1.24.0
Command: /Library/Frameworks/R.framework/Resources/bin/R CMD check --install=check:omicplotR.install-out.txt --library=/Library/Frameworks/R.framework/Resources/library --no-vignettes --timings omicplotR_1.24.0.tar.gz
StartedAt: 2024-10-18 06:26:08 -0400 (Fri, 18 Oct 2024)
EndedAt: 2024-10-18 06:28:07 -0400 (Fri, 18 Oct 2024)
EllapsedTime: 119.6 seconds
RetCode: 0
Status: OK
CheckDir: omicplotR.Rcheck
Warnings: 0