Package: omicplotR
Version: 1.24.0
Command: /Library/Frameworks/R.framework/Resources/bin/R CMD build --keep-empty-dirs --no-resave-data omicplotR
StartedAt: 2024-10-17 05:49:14 -0400 (Thu, 17 Oct 2024)
EndedAt: 2024-10-17 05:49:49 -0400 (Thu, 17 Oct 2024)
EllapsedTime: 35.4 seconds
RetCode: 0
Status: OK
PackageFile: omicplotR_1.24.0.tar.gz
PackageFileSize: 1.641 <A href="http://en.wikipedia.org/wiki/MiB" target="_blank">MiB</A>