Package: omicplotR Version: 1.24.0 Maintainer: Daniel Giguere MaintainerEmail: dgiguer at uwo.ca git_url: https://git.bioconductor.org/packages/omicplotR git_branch: RELEASE_3_19 git_last_commit: a5374bb git_last_commit_date: 2024-04-30 11:03:46 -0400 (Tue, 30 Apr 2024)