Package: omicade4
Version: 1.44.0
Command: /home/biocbuild/R/R-beta-2024-04-15_r86425/bin/R CMD INSTALL omicade4
StartedAt: 2024-05-08 20:13:41 -0000 (Wed, 08 May 2024)
EndedAt: 2024-05-08 20:14:08 -0000 (Wed, 08 May 2024)
EllapsedTime: 27.3 seconds
RetCode: 0
Status: OK