Package: omicRexposome
Version: 1.26.0
Command: rm -rf omicRexposome.buildbin-libdir && mkdir omicRexposome.buildbin-libdir && /Users/biocbuild/BBS/utils/build-universal.sh omicRexposome_1.26.0.tar.gz /Library/Frameworks/R.framework/Resources/bin/R omicRexposome.buildbin-libdir
StartedAt: 2024-10-17 16:45:47 -0400 (Thu, 17 Oct 2024)
EndedAt: 2024-10-17 16:47:46 -0400 (Thu, 17 Oct 2024)
EllapsedTime: 118.7 seconds
RetCode: 0
Status: OK
PackageFile: omicRexposome_1.26.0.tgz
PackageFileSize: 2.934 <A href="http://en.wikipedia.org/wiki/MiB" target="_blank">MiB</A>