Package: omicRexposome
Version: 1.26.0
Command: /Library/Frameworks/R.framework/Resources/bin/R CMD check --install=check:omicRexposome.install-out.txt --library=/Library/Frameworks/R.framework/Resources/library --no-vignettes --timings omicRexposome_1.26.0.tar.gz
StartedAt: 2024-06-09 21:58:00 -0400 (Sun, 09 Jun 2024)
EndedAt: 2024-06-09 22:02:53 -0400 (Sun, 09 Jun 2024)
EllapsedTime: 292.9 seconds
RetCode: 0
Status: OK
CheckDir: omicRexposome.Rcheck
Warnings: 0