Package: odseq
Version: 1.32.0
Command: /Library/Frameworks/R.framework/Resources/bin/R CMD INSTALL odseq
StartedAt: 2024-10-16 15:30:53 -0400 (Wed, 16 Oct 2024)
EndedAt: 2024-10-16 15:31:32 -0400 (Wed, 16 Oct 2024)
EllapsedTime: 39.2 seconds
RetCode: 0
Status: OK