Package: odseq
Version: 1.32.0
Command: /Library/Frameworks/R.framework/Resources/bin/R CMD check --install=check:odseq.install-out.txt --library=/Library/Frameworks/R.framework/Resources/library --no-vignettes --timings odseq_1.32.0.tar.gz
StartedAt: 2024-10-17 10:12:18 -0400 (Thu, 17 Oct 2024)
EndedAt: 2024-10-17 10:17:43 -0400 (Thu, 17 Oct 2024)
EllapsedTime: 325.5 seconds
RetCode: 0
Status: OK
CheckDir: odseq.Rcheck
Warnings: 0