Package: occugene
Version: 1.64.0
Maintainer: Oliver Will
MaintainerEmail: oliverrreader at gmail.com
git_url: https://git.bioconductor.org/packages/occugene
git_branch: RELEASE_3_19
git_last_commit: f762662
git_last_commit_date: 2024-04-30 10:16:14 -0400 (Tue, 30 Apr 2024)