Package: normr
Version: 1.30.0
Command: /Library/Frameworks/R.framework/Resources/bin/R CMD check --install=check:normr.install-out.txt --library=/Library/Frameworks/R.framework/Resources/library --no-vignettes --timings normr_1.30.0.tar.gz
StartedAt: 2024-06-09 21:55:16 -0400 (Sun, 09 Jun 2024)
EndedAt: 2024-06-09 22:00:12 -0400 (Sun, 09 Jun 2024)
EllapsedTime: 295.6 seconds
RetCode: 0
Status: WARNINGS
CheckDir: normr.Rcheck
Warnings: 1