Package: nnSVG
Version: 1.8.0
Maintainer: Lukas M. Weber
MaintainerEmail: lmweberedu at gmail.com
git_url: https://git.bioconductor.org/packages/nnSVG
git_branch: RELEASE_3_19
git_last_commit: ba201c7
git_last_commit_date: 2024-04-30 11:41:14 -0400 (Tue, 30 Apr 2024)