Package: ngsReports
Version: 2.6.1
Maintainer: Stevie Pederson
MaintainerEmail: stephen.pederson.au at gmail.com
git_url: https://git.bioconductor.org/packages/ngsReports
git_branch: RELEASE_3_19
git_last_commit: 290df56
git_last_commit_date: 2024-07-22 08:50:23 -0400 (Mon, 22 Jul 2024)