Package: netresponse
Version: 1.64.0
Maintainer: Leo Lahti
MaintainerEmail: leo.lahti at iki.fi
git_url: https://git.bioconductor.org/packages/netresponse
git_branch: RELEASE_3_19
git_last_commit: 44efda9
git_last_commit_date: 2024-04-30 10:22:46 -0400 (Tue, 30 Apr 2024)