Package: nethet
Version: 1.36.0
Maintainer: Nicolas Staedler
MaintainerEmail: staedler.n at gmail.com
git_url: https://git.bioconductor.org/packages/nethet
git_branch: RELEASE_3_19
git_last_commit: bae620b
git_last_commit_date: 2024-04-30 10:40:51 -0400 (Tue, 30 Apr 2024)