Package: nearBynding
Version: 1.14.0
Maintainer: Veronica Busa
MaintainerEmail: vbusa1 at jhmi.edu
git_url: https://git.bioconductor.org/packages/nearBynding
git_branch: RELEASE_3_19
git_last_commit: b70932e
git_last_commit_date: 2024-04-30 11:27:07 -0400 (Tue, 30 Apr 2024)