Package: multistateQTL
Version: 1.0.0
Command: /Library/Frameworks/R.framework/Resources/bin/R CMD check --install=check:multistateQTL.install-out.txt --library=/Library/Frameworks/R.framework/Resources/library --no-vignettes --timings multistateQTL_1.0.0.tar.gz
StartedAt: 2024-06-10 23:24:45 -0400 (Mon, 10 Jun 2024)
EndedAt: 2024-06-10 23:31:10 -0400 (Mon, 10 Jun 2024)
EllapsedTime: 384.1 seconds
RetCode: 1
Status: ERROR
CheckDir: multistateQTL.Rcheck
Warnings: NA