Package: multiscan
Version: 1.64.0
Command: E:\biocbuild\bbs-3.19-bioc\R\bin\R.exe CMD check --no-multiarch --install=check:multiscan.install-out.txt --library=E:\biocbuild\bbs-3.19-bioc\R\library --no-vignettes --timings multiscan_1.64.0.tar.gz
StartedAt: 2024-10-17 03:48:58 -0400 (Thu, 17 Oct 2024)
EndedAt: 2024-10-17 03:49:44 -0400 (Thu, 17 Oct 2024)
EllapsedTime: 45.8 seconds
RetCode: 0
Status: OK
CheckDir: multiscan.Rcheck
Warnings: 0