Package: multiscan
Version: 1.64.0
Command: /Library/Frameworks/R.framework/Resources/bin/R CMD INSTALL multiscan
StartedAt: 2024-10-16 15:06:52 -0400 (Wed, 16 Oct 2024)
EndedAt: 2024-10-16 15:07:04 -0400 (Wed, 16 Oct 2024)
EllapsedTime: 12.6 seconds
RetCode: 0
Status: OK