Package: multiscan
Version: 1.64.0
Command: rm -rf multiscan.buildbin-libdir && mkdir multiscan.buildbin-libdir && /Users/biocbuild/BBS/utils/build-universal.sh multiscan_1.64.0.tar.gz /Library/Frameworks/R.framework/Resources/bin/R multiscan.buildbin-libdir
StartedAt: 2024-10-17 16:42:08 -0400 (Thu, 17 Oct 2024)
EndedAt: 2024-10-17 16:42:19 -0400 (Thu, 17 Oct 2024)
EllapsedTime: 10.4 seconds
RetCode: 0
Status: OK
PackageFile: multiscan_1.64.0.tgz
PackageFileSize: 781.2 <A href="http://en.wikipedia.org/wiki/KiB" target="_blank">KiB</A>