Package: multiscan
Version: 1.64.0
Command: /Library/Frameworks/R.framework/Resources/bin/R CMD build --keep-empty-dirs --no-resave-data multiscan
StartedAt: 2024-06-09 17:28:28 -0400 (Sun, 09 Jun 2024)
EndedAt: 2024-06-09 17:28:45 -0400 (Sun, 09 Jun 2024)
EllapsedTime: 16.8 seconds
RetCode: 0
Status: OK
PackageFile: multiscan_1.64.0.tar.gz
PackageFileSize: 750.1 <A href="http://en.wikipedia.org/wiki/KiB" target="_blank">KiB</A>