Package: multiGSEA
Version: 1.14.0
Command: rm -rf multiGSEA.buildbin-libdir && mkdir multiGSEA.buildbin-libdir && F:\biocbuild\bbs-3.19-bioc\R\bin\R.exe CMD INSTALL --build --library=multiGSEA.buildbin-libdir multiGSEA_1.14.0.tar.gz
StartedAt: 2024-06-27 08:34:13 -0400 (Thu, 27 Jun 2024)
EndedAt: 2024-06-27 08:36:14 -0400 (Thu, 27 Jun 2024)
EllapsedTime: 121.2 seconds
RetCode: 0
Status: OK
PackageFile: multiGSEA_1.14.0.zip
PackageFileSize: 988 <A href="http://en.wikipedia.org/wiki/KiB" target="_blank">KiB</A>