Package: multiClust
Version: 1.34.0
Maintainer: Nathan Lawlor
MaintainerEmail: nathan.lawlor03 at gmail.com
git_url: https://git.bioconductor.org/packages/multiClust
git_branch: RELEASE_3_19
git_last_commit: 4b00cc6
git_last_commit_date: 2024-04-30 10:46:51 -0400 (Tue, 30 Apr 2024)