Package: msPurity
Version: 1.30.1
Maintainer: Thomas N. Lawson
MaintainerEmail: thomas.nigel.lawson at gmail.com
git_url: https://git.bioconductor.org/packages/msPurity
git_branch: RELEASE_3_19
git_last_commit: 46e39ad
git_last_commit_date: 2024-05-10 06:48:17 -0400 (Fri, 10 May 2024)