Package: msImpute
Version: 1.14.0
Command: /home/biocbuild/R/R-beta-2024-04-15_r86425/bin/R CMD INSTALL msImpute
StartedAt: 2024-05-08 21:00:29 -0000 (Wed, 08 May 2024)
EndedAt: 2024-05-08 21:01:10 -0000 (Wed, 08 May 2024)
EllapsedTime: 40.2 seconds
RetCode: 0
Status: OK