Package: msImpute Version: 1.14.0 Command: /home/biocbuild/R/R-beta-2024-04-15_r86425/bin/R CMD build --keep-empty-dirs --no-resave-data msImpute StartedAt: 2024-05-09 01:56:12 -0000 (Thu, 09 May 2024) EndedAt: 2024-05-09 01:57:47 -0000 (Thu, 09 May 2024) EllapsedTime: 95.1 seconds RetCode: 0 Status: OK PackageFile: msImpute_1.14.0.tar.gz PackageFileSize: 1.676 <A href="http://en.wikipedia.org/wiki/MiB" target="_blank">MiB</A>