Package: msImpute
Version: 1.14.0
Command: /Library/Frameworks/R.framework/Resources/bin/R CMD check --install=check:msImpute.install-out.txt --library=/Library/Frameworks/R.framework/Resources/library --no-vignettes --timings msImpute_1.14.0.tar.gz
StartedAt: 2024-06-10 23:01:59 -0400 (Mon, 10 Jun 2024)
EndedAt: 2024-06-10 23:06:40 -0400 (Mon, 10 Jun 2024)
EllapsedTime: 281.6 seconds
RetCode: 0
Status: OK
CheckDir: msImpute.Rcheck
Warnings: 0