Package: motifcounter
Version: 1.28.0
Maintainer: Wolfgang Kopp
MaintainerEmail: wolfgang.kopp at mdc-berlin.de
git_url: https://git.bioconductor.org/packages/motifcounter
git_branch: RELEASE_3_19
git_last_commit: 18f6918
git_last_commit_date: 2024-04-30 10:57:02 -0400 (Tue, 30 Apr 2024)