Package: motifbreakR
Version: 2.18.0
Maintainer: Simon Gert Coetzee
MaintainerEmail: simon.coetzee at cshs.org
git_url: https://git.bioconductor.org/packages/motifbreakR
git_branch: RELEASE_3_19
git_last_commit: fc45055
git_last_commit_date: 2024-04-30 10:45:38 -0400 (Tue, 30 Apr 2024)