Package: mobileRNA
Version: 1.0.15
Maintainer: Katie Jeynes-Cupper
MaintainerEmail: kejc at illinois.edu
git_url: https://git.bioconductor.org/packages/mobileRNA
git_branch: RELEASE_3_19
git_last_commit: 9075391
git_last_commit_date: 2024-10-05 21:46:03 -0400 (Sat, 05 Oct 2024)