Package: mimager
Version: 1.28.0
Maintainer: Aaron Wolen
MaintainerEmail: aaron at wolen.com
git_url: https://git.bioconductor.org/packages/mimager
git_branch: RELEASE_3_19
git_last_commit: b3103a9
git_last_commit_date: 2024-04-30 10:55:50 -0400 (Tue, 30 Apr 2024)