Package: microbiome
Version: 1.26.0
Maintainer: Leo Lahti
MaintainerEmail: leo.lahti at iki.fi
git_url: https://git.bioconductor.org/packages/microbiome
git_branch: RELEASE_3_19
git_last_commit: d43023c
git_last_commit_date: 2024-04-30 11:00:00 -0400 (Tue, 30 Apr 2024)