Package: microSTASIS
Version: 1.4.0
Maintainer: Pedro Sánchez-Sánchez
MaintainerEmail: bio.pedro.technology at gmail.com
git_url: https://git.bioconductor.org/packages/microSTASIS
git_branch: RELEASE_3_19
git_last_commit: 68dc889
git_last_commit_date: 2024-04-30 11:46:12 -0400 (Tue, 30 Apr 2024)