Package: miaSim
Version: 1.10.0
Maintainer: Yagmur Simsek
MaintainerEmail: yagmur.simsek.98 at gmail.com
git_url: https://git.bioconductor.org/packages/miaSim
git_branch: RELEASE_3_19
git_last_commit: 53e4ffe
git_last_commit_date: 2024-04-30 11:38:22 -0400 (Tue, 30 Apr 2024)