Package: miRspongeR
Version: 2.8.1
Maintainer: Junpeng Zhang
MaintainerEmail: zjp at dali.edu.cn
git_url: https://git.bioconductor.org/packages/miRspongeR
git_branch: RELEASE_3_19
git_last_commit: be4d00d
git_last_commit_date: 2024-08-25 02:03:34 -0400 (Sun, 25 Aug 2024)