Package: miRcomp
Version: 1.34.0
Maintainer: Matthew N. McCall
MaintainerEmail: mccallm at gmail.com
git_url: https://git.bioconductor.org/packages/miRcomp
git_branch: RELEASE_3_19
git_last_commit: ba5521f
git_last_commit_date: 2024-04-30 10:46:31 -0400 (Tue, 30 Apr 2024)