Package: miRSM
Version: 2.0.2
Maintainer: Junpeng Zhang
MaintainerEmail: zjp at dali.edu.cn
git_url: https://git.bioconductor.org/packages/miRSM
git_branch: RELEASE_3_19
git_last_commit: d33bbfe
git_last_commit_date: 2024-09-18 08:11:27 -0400 (Wed, 18 Sep 2024)