Package: miRNApath
Version: 1.64.0
Maintainer: James M. Ward
MaintainerEmail: jmw86069 at gmail.com
git_url: https://git.bioconductor.org/packages/miRNApath
git_branch: RELEASE_3_19
git_last_commit: d1acf58
git_last_commit_date: 2024-04-30 10:18:18 -0400 (Tue, 30 Apr 2024)