Package: miRBaseConverter
Version: 1.28.6
Maintainer: Taosheng Xu Taosheng Xu
MaintainerEmail: taosheng.x at gmail.com
git_url: https://git.bioconductor.org/packages/miRBaseConverter
git_branch: RELEASE_3_19
git_last_commit: 0375ddb
git_last_commit_date: 2024-08-23 21:55:25 -0400 (Fri, 23 Aug 2024)