Package: miQC
Version: 1.12.0
Maintainer: Ariel Hippen
MaintainerEmail: ariel.hippen at gmail.com
git_url: https://git.bioconductor.org/packages/miQC
git_branch: RELEASE_3_19
git_last_commit: 874ca37
git_last_commit_date: 2024-04-30 11:31:52 -0400 (Tue, 30 Apr 2024)