Package: mgsa
Version: 1.52.0
Command: E:\biocbuild\bbs-3.19-bioc\R\bin\R.exe CMD INSTALL mgsa
StartedAt: 2024-10-16 16:01:09 -0400 (Wed, 16 Oct 2024)
EndedAt: 2024-10-16 16:01:36 -0400 (Wed, 16 Oct 2024)
EllapsedTime: 27.4 seconds
RetCode: 0
Status: OK