Package: mgsa
Version: 1.52.0
Command: E:\biocbuild\bbs-3.19-bioc\R\bin\R.exe CMD check --no-multiarch --install=check:mgsa.install-out.txt --library=E:\biocbuild\bbs-3.19-bioc\R\library --no-vignettes --timings mgsa_1.52.0.tar.gz
StartedAt: 2024-10-17 03:16:34 -0400 (Thu, 17 Oct 2024)
EndedAt: 2024-10-17 03:17:40 -0400 (Thu, 17 Oct 2024)
EllapsedTime: 65.8 seconds
RetCode: 0
Status: WARNINGS
CheckDir: mgsa.Rcheck
Warnings: 1