Package: mgsa
Version: 1.52.0
Command: chmod a+r mgsa -R && E:\biocbuild\bbs-3.19-bioc\R\bin\R.exe CMD build --keep-empty-dirs --no-resave-data mgsa
StartedAt: 2024-10-16 20:16:56 -0400 (Wed, 16 Oct 2024)
EndedAt: 2024-10-16 20:17:25 -0400 (Wed, 16 Oct 2024)
EllapsedTime: 29.1 seconds
RetCode: 0
Status: OK
PackageFile: mgsa_1.52.0.tar.gz
PackageFileSize: 301.5 <A href="http://en.wikipedia.org/wiki/KiB" target="_blank">KiB</A>