Package: mgsa
Version: 1.52.0
Command: F:\biocbuild\bbs-3.19-bioc\R\bin\R.exe CMD INSTALL mgsa
StartedAt: 2024-06-26 15:41:46 -0400 (Wed, 26 Jun 2024)
EndedAt: 2024-06-26 15:42:06 -0400 (Wed, 26 Jun 2024)
EllapsedTime: 20.3 seconds
RetCode: 0
Status: OK