##############################################################################
##############################################################################
###
### Running command:
###
###   chmod a+r mgsa -R && F:\biocbuild\bbs-3.19-bioc\R\bin\R.exe CMD build --keep-empty-dirs --no-resave-data mgsa
###
##############################################################################
##############################################################################


* checking for file 'mgsa/DESCRIPTION' ... OK
* preparing 'mgsa':
* checking DESCRIPTION meta-information ... OK
* cleaning src
* installing the package to build vignettes
* creating vignettes ... OK
* cleaning src
* checking for LF line-endings in source and make files and shell scripts
* checking for empty or unneeded directories
* looking to see if a 'data/datalist' file should be added
* building 'mgsa_1.52.0.tar.gz'
Warning: file 'mgsa/cleanup' did not have execute permissions: corrected
Warning: file 'mgsa/configure' did not have execute permissions: corrected