Package: mgsa
Version: 1.52.0
Command: /home/biocbuild/bbs-3.19-bioc/R/bin/R CMD build --keep-empty-dirs --no-resave-data mgsa
StartedAt: 2024-10-16 19:27:11 -0400 (Wed, 16 Oct 2024)
EndedAt: 2024-10-16 19:27:23 -0400 (Wed, 16 Oct 2024)
EllapsedTime: 12.0 seconds
RetCode: 0
Status: OK
PackageFile: mgsa_1.52.0.tar.gz
PackageFileSize: 300 <A href="http://en.wikipedia.org/wiki/KiB" target="_blank">KiB</A>