Package: mgsa
Version: 1.52.0
Command: /home/biocbuild/R/R-beta-2024-04-15_r86425/bin/R CMD INSTALL mgsa
StartedAt: 2024-05-08 20:05:07 -0000 (Wed, 08 May 2024)
EndedAt: 2024-05-08 20:05:31 -0000 (Wed, 08 May 2024)
EllapsedTime: 24.0 seconds
RetCode: 0
Status: OK