Package: mgsa
Version: 1.52.0
Command: /home/biocbuild/R/R-beta-2024-04-15_r86425/bin/R CMD build --keep-empty-dirs --no-resave-data mgsa
StartedAt: 2024-05-09 01:37:13 -0000 (Thu, 09 May 2024)
EndedAt: 2024-05-09 01:37:28 -0000 (Thu, 09 May 2024)
EllapsedTime: 15.0 seconds
RetCode: 0
Status: OK
PackageFile: mgsa_1.52.0.tar.gz
PackageFileSize: 388.2 <A href="http://en.wikipedia.org/wiki/KiB" target="_blank">KiB</A>